BEGIN:VCALENDAR
VERSION:2.0
PRODID:-//Tukios.com/
BEGIN:VEVENT
UID:cfcb85cb-1295-4562-9d37-893a2c8ee789@www.greenwoodmyersfuneral.com
DTSTAMP:20260421T012645Z
DTSTART:20260509T200000Z
DTEND:20260509T220000Z
SUMMARY:Celebration of Life
DESCRIPTION:
URL:https://www.greenwoodmyersfuneral.com/obituaries/lou-shirley
LOCATION:Greenwood & Myers Mortuary 2969 Baseline Road  Boulder CO 80303
GEO:40.0003672;-105.2540176
END:VEVENT
END:VCALENDAR